BEGIN:VCALENDAR
VERSION:2.0
PRODID:-//Geneva University Neurocenter - ECPv5.7.0//NONSGML v1.0//EN
CALSCALE:GREGORIAN
METHOD:PUBLISH
X-WR-CALNAME:Geneva University Neurocenter
X-ORIGINAL-URL:https://neurocenter-unige.ch/fr/
X-WR-CALDESC:Évènements du Geneva University Neurocenter
BEGIN:VTIMEZONE
TZID:Europe/Paris
BEGIN:DAYLIGHT
TZOFFSETFROM:+0100
TZOFFSETTO:+0200
TZNAME:CEST
DTSTART:20200329T010000
END:DAYLIGHT
BEGIN:STANDARD
TZOFFSETFROM:+0200
TZOFFSETTO:+0100
TZNAME:CET
DTSTART:20201025T010000
END:STANDARD
END:VTIMEZONE
BEGIN:VEVENT
DTSTART;TZID=Europe/Paris:20201014T080000
DTEND;TZID=Europe/Paris:20201014T090000
DTSTAMP:20260423T175303
CREATED:20201001T103324Z
LAST-MODIFIED:20201014T003538Z
UID:7745-1602662400-1602666000@neurocenter-unige.ch
SUMMARY:Traitements pharmacologiques en neurorééducation
DESCRIPTION:Formation destinée aux personnes exerçant leur activité professionnelle dans le domaine de la santé et de la rééducation
URL:https://neurocenter-unige.ch/fr/agenda/traitements-pharmacologiques-en-neuroreeducation/
LOCATION:Hôpital Beau-Séjour\nSalle 0A-1-084\nAv. de Beau-séjour 26\n1206 Genève
CATEGORIES:Training
END:VEVENT
END:VCALENDAR