BEGIN:VCALENDAR
VERSION:2.0
PRODID:-//Geneva University Neurocenter - ECPv5.7.0//NONSGML v1.0//EN
CALSCALE:GREGORIAN
METHOD:PUBLISH
X-WR-CALNAME:Geneva University Neurocenter
X-ORIGINAL-URL:https://neurocenter-unige.ch/fr/
X-WR-CALDESC:Évènements du Geneva University Neurocenter
BEGIN:VTIMEZONE
TZID:Europe/Paris
BEGIN:DAYLIGHT
TZOFFSETFROM:+0100
TZOFFSETTO:+0200
TZNAME:CEST
DTSTART:20200329T010000
END:DAYLIGHT
BEGIN:STANDARD
TZOFFSETFROM:+0200
TZOFFSETTO:+0100
TZNAME:CET
DTSTART:20201025T010000
END:STANDARD
END:VTIMEZONE
BEGIN:VEVENT
DTSTART;TZID=Europe/Paris:20201109T110000
DTEND;TZID=Europe/Paris:20201109T120000
DTSTAMP:20260422T144649
CREATED:20201002T135913Z
LAST-MODIFIED:20201108T124731Z
UID:7811-1604919600-1604923200@neurocenter-unige.ch
SUMMARY:Cellular mechanisms of conscious perception
DESCRIPTION:Speaker: Matthew Larkum (Humboldt-Universität\, Berlin – Germany) Host: Alan Carleton
URL:https://neurocenter-unige.ch/fr/agenda/tba-3/
LOCATION:par zoom – contacter helene-sophie.renneboog@unige.ch pour obtenir le lien
CATEGORIES:Seminars neurobiology
END:VEVENT
END:VCALENDAR