BEGIN:VCALENDAR
VERSION:2.0
PRODID:-//Geneva University Neurocenter - ECPv5.7.0//NONSGML v1.0//EN
CALSCALE:GREGORIAN
METHOD:PUBLISH
X-WR-CALNAME:Geneva University Neurocenter
X-ORIGINAL-URL:https://neurocenter-unige.ch/fr/
X-WR-CALDESC:Évènements du Geneva University Neurocenter
BEGIN:VTIMEZONE
TZID:Europe/Paris
BEGIN:DAYLIGHT
TZOFFSETFROM:+0100
TZOFFSETTO:+0200
TZNAME:CEST
DTSTART:20240331T010000
END:DAYLIGHT
BEGIN:STANDARD
TZOFFSETFROM:+0200
TZOFFSETTO:+0100
TZNAME:CET
DTSTART:20241027T010000
END:STANDARD
END:VTIMEZONE
BEGIN:VEVENT
DTSTART;TZID=Europe/Paris:20240702T090000
DTEND;TZID=Europe/Paris:20240702T120000
DTSTAMP:20260420T061600
CREATED:20240610T174125Z
LAST-MODIFIED:20240701T175814Z
UID:21770-1719910800-1719921600@neurocenter-unige.ch
SUMMARY:« Propriétés psychométriques de la WISC-V: Structure interne et stabilité à long terme »
DESCRIPTION:
URL:https://neurocenter-unige.ch/fr/agenda/proprietes-psychometriques-de-la-wisc-v-structure-interne-et-stabilite-a-long-terme/
LOCATION:Salle 4193
CATEGORIES:Thesis defense
END:VEVENT
END:VCALENDAR