BEGIN:VCALENDAR
VERSION:2.0
PRODID:-//Geneva University Neurocenter - ECPv5.7.0//NONSGML v1.0//EN
CALSCALE:GREGORIAN
METHOD:PUBLISH
X-WR-CALNAME:Geneva University Neurocenter
X-ORIGINAL-URL:https://neurocenter-unige.ch/fr/
X-WR-CALDESC:Évènements du Geneva University Neurocenter
BEGIN:VTIMEZONE
TZID:Europe/Paris
BEGIN:DAYLIGHT
TZOFFSETFROM:+0100
TZOFFSETTO:+0200
TZNAME:CEST
DTSTART:20260329T010000
END:DAYLIGHT
BEGIN:STANDARD
TZOFFSETFROM:+0200
TZOFFSETTO:+0100
TZNAME:CET
DTSTART:20261025T010000
END:STANDARD
END:VTIMEZONE
BEGIN:VEVENT
DTSTART;TZID=Europe/Paris:20260423T170000
DTEND;TZID=Europe/Paris:20260423T180000
DTSTAMP:20260422T011008
CREATED:20260113T155623Z
LAST-MODIFIED:20260421T194117Z
UID:28638-1776963600-1776967200@neurocenter-unige.ch
SUMMARY:NC Talk: "Current advances in management of craniopharyngioma"
DESCRIPTION:Les NC Talks sont des colloques à destination des professionnels et professionnelles organisés par le NeuroCentre des HUG avec pour objectif de renforcer des liens entre les HUG et les institutions de recherche\, particulièrement dans la région lémanique.  Accès sans inscription.
URL:https://neurocenter-unige.ch/fr/agenda/nc-talk-current-advances-in-management-of-craniopharyngioma/
LOCATION:HUG\, bâtiment Prévost\, aile Jura\, bureau 7A-2-744/745 (bibliothèque de neurologie)
CATEGORIES:Conferences
END:VEVENT
END:VCALENDAR