BEGIN:VCALENDAR
VERSION:2.0
PRODID:-//Geneva University Neurocenter - ECPv5.7.0//NONSGML v1.0//EN
CALSCALE:GREGORIAN
METHOD:PUBLISH
X-WR-CALNAME:Geneva University Neurocenter
X-ORIGINAL-URL:https://neurocenter-unige.ch/fr/
X-WR-CALDESC:Évènements du Geneva University Neurocenter
BEGIN:VTIMEZONE
TZID:Europe/Paris
BEGIN:DAYLIGHT
TZOFFSETFROM:+0100
TZOFFSETTO:+0200
TZNAME:CEST
DTSTART:20250330T010000
END:DAYLIGHT
BEGIN:STANDARD
TZOFFSETFROM:+0200
TZOFFSETTO:+0100
TZNAME:CET
DTSTART:20251026T010000
END:STANDARD
END:VTIMEZONE
BEGIN:VEVENT
DTSTART;TZID=Europe/Paris:20250310T190000
DTEND;TZID=Europe/Paris:20250310T203000
DTSTAMP:20260425T223415
CREATED:20250115T095612Z
LAST-MODIFIED:20250310T121513Z
UID:24486-1741633200-1741638600@neurocenter-unige.ch
SUMMARY:LA MOTIVATION\, MOTEUR DE L’ADAPTATION
DESCRIPTION:La motivation joue un rôle crucial dans la réalisation des objectifs et la prise de décision.\nMieux comprendre les mécanismes sous-jacents peut aider à adapter notre comportement\nface à différents niveaux de motivation.
URL:https://neurocenter-unige.ch/fr/agenda/la-motivation-moteur-de-ladaptation/
LOCATION:U600
CATEGORIES:Conferences
END:VEVENT
END:VCALENDAR