BEGIN:VCALENDAR
VERSION:2.0
PRODID:-//Geneva University Neurocenter - ECPv5.7.0//NONSGML v1.0//EN
CALSCALE:GREGORIAN
METHOD:PUBLISH
X-WR-CALNAME:Geneva University Neurocenter
X-ORIGINAL-URL:https://neurocenter-unige.ch/fr/
X-WR-CALDESC:Évènements du Geneva University Neurocenter
BEGIN:VTIMEZONE
TZID:Europe/Paris
BEGIN:DAYLIGHT
TZOFFSETFROM:+0100
TZOFFSETTO:+0200
TZNAME:CEST
DTSTART:20230326T010000
END:DAYLIGHT
BEGIN:STANDARD
TZOFFSETFROM:+0200
TZOFFSETTO:+0100
TZNAME:CET
DTSTART:20231029T010000
END:STANDARD
END:VTIMEZONE
BEGIN:VEVENT
DTSTART;TZID=Europe/Paris:20230328T121500
DTEND;TZID=Europe/Paris:20230328T131500
DTSTAMP:20260420T155219
CREATED:20230313T142305Z
LAST-MODIFIED:20230328T103809Z
UID:17145-1680005700-1680009300@neurocenter-unige.ch
SUMMARY:B&C Tuesday Seminar "The nature of mid-level representations in visual processing inferred from the study of a woman with a highly specific developmental visual disorder"
DESCRIPTION:
URL:https://neurocenter-unige.ch/fr/agenda/bc-tuesday-seminar-the-nature-of-mid-level-representations-in-visual-processing-inferred-from-the-study-of-a-woman-with-a-highly-specific-developmental-visual-disorder/
LOCATION:Room H8-01-D
CATEGORIES:Seminars brain&cognition,Seminars neurobiology
END:VEVENT
END:VCALENDAR