BEGIN:VCALENDAR
VERSION:2.0
PRODID:-//Geneva University Neurocenter - ECPv5.7.0//NONSGML v1.0//EN
CALSCALE:GREGORIAN
METHOD:PUBLISH
X-WR-CALNAME:Geneva University Neurocenter
X-ORIGINAL-URL:https://neurocenter-unige.ch/fr/
X-WR-CALDESC:Évènements du Geneva University Neurocenter
BEGIN:VTIMEZONE
TZID:Europe/Paris
BEGIN:DAYLIGHT
TZOFFSETFROM:+0100
TZOFFSETTO:+0200
TZNAME:CEST
DTSTART:20240331T010000
END:DAYLIGHT
BEGIN:STANDARD
TZOFFSETFROM:+0200
TZOFFSETTO:+0100
TZNAME:CET
DTSTART:20241027T010000
END:STANDARD
END:VTIMEZONE
BEGIN:VEVENT
DTSTART;TZID=Europe/Paris:20241106T100000
DTEND;TZID=Europe/Paris:20241106T130000
DTSTAMP:20260423T180949
CREATED:20241015T222704Z
LAST-MODIFIED:20241105T234104Z
UID:22830-1730887200-1730898000@neurocenter-unige.ch
SUMMARY:« Associations between the quality of family interactions and adolescents’ physiological emotion regulation and self-reported psychological outcomes »
DESCRIPTION:
URL:https://neurocenter-unige.ch/fr/agenda/associations-between-the-quality-of-family-interactions-and-adolescents-physiological-emotion-regulation-and-self-reported-psychological-outcomes/
LOCATION:Uni Mail\nSalle 4193
CATEGORIES:Thesis defense
END:VEVENT
END:VCALENDAR