BEGIN:VCALENDAR
VERSION:2.0
PRODID:-//Geneva University Neurocenter - ECPv5.7.0//NONSGML v1.0//EN
CALSCALE:GREGORIAN
METHOD:PUBLISH
X-WR-CALNAME:Geneva University Neurocenter
X-ORIGINAL-URL:https://neurocenter-unige.ch
X-WR-CALDESC:Events for Geneva University Neurocenter
BEGIN:VTIMEZONE
TZID:Europe/Paris
BEGIN:DAYLIGHT
TZOFFSETFROM:+0100
TZOFFSETTO:+0200
TZNAME:CEST
DTSTART:20210328T010000
END:DAYLIGHT
BEGIN:STANDARD
TZOFFSETFROM:+0200
TZOFFSETTO:+0100
TZNAME:CET
DTSTART:20211031T010000
END:STANDARD
END:VTIMEZONE
BEGIN:VEVENT
DTSTART;TZID=Europe/Paris:20210201T110000
DTEND;TZID=Europe/Paris:20210201T120000
DTSTAMP:20260419T174613
CREATED:20201025T134052Z
LAST-MODIFIED:20210112T153620Z
UID:8161-1612177200-1612180800@neurocenter-unige.ch
SUMMARY:TBA
DESCRIPTION:Speaker: Nathalie Rochefort (University of Edinburgh\, UK)  Host: Sami El-Boustani
URL:https://neurocenter-unige.ch/agenda/tba-11/
CATEGORIES:Seminars neurobiology
END:VEVENT
END:VCALENDAR