BEGIN:VCALENDAR
VERSION:2.0
PRODID:-//Geneva University Neurocenter - ECPv5.7.0//NONSGML v1.0//EN
CALSCALE:GREGORIAN
METHOD:PUBLISH
X-WR-CALNAME:Geneva University Neurocenter
X-ORIGINAL-URL:https://neurocenter-unige.ch
X-WR-CALDESC:Events for Geneva University Neurocenter
BEGIN:VTIMEZONE
TZID:Europe/Paris
BEGIN:DAYLIGHT
TZOFFSETFROM:+0100
TZOFFSETTO:+0200
TZNAME:CEST
DTSTART:20210328T010000
END:DAYLIGHT
BEGIN:STANDARD
TZOFFSETFROM:+0200
TZOFFSETTO:+0100
TZNAME:CET
DTSTART:20211031T010000
END:STANDARD
END:VTIMEZONE
BEGIN:VEVENT
DTSTART;TZID=Europe/Paris:20210301T121500
DTEND;TZID=Europe/Paris:20210301T131500
DTSTAMP:20260426T022839
CREATED:20201122T134628Z
LAST-MODIFIED:20210112T153620Z
UID:8477-1614600900-1614604500@neurocenter-unige.ch
SUMMARY:Seth Grant - "The synaptome in time and space"
DESCRIPTION:Speaker: Seth Grant  Centre for Clinical Brain Sciences\, University of Edinburgh  Host: Anthony Holtmaat
URL:https://neurocenter-unige.ch/agenda/seth-grant-the-synaptome-in-time-and-space/
LOCATION:TBA
CATEGORIES:Seminars neurobiology
END:VEVENT
END:VCALENDAR