BEGIN:VCALENDAR
VERSION:2.0
PRODID:-//Geneva University Neurocenter - ECPv5.7.0//NONSGML v1.0//EN
CALSCALE:GREGORIAN
METHOD:PUBLISH
X-WR-CALNAME:Geneva University Neurocenter
X-ORIGINAL-URL:https://neurocenter-unige.ch
X-WR-CALDESC:Events for Geneva University Neurocenter
BEGIN:VTIMEZONE
TZID:Europe/Paris
BEGIN:DAYLIGHT
TZOFFSETFROM:+0100
TZOFFSETTO:+0200
TZNAME:CEST
DTSTART:20230326T010000
END:DAYLIGHT
BEGIN:STANDARD
TZOFFSETFROM:+0200
TZOFFSETTO:+0100
TZNAME:CET
DTSTART:20231029T010000
END:STANDARD
END:VTIMEZONE
BEGIN:VEVENT
DTSTART;TZID=Europe/Paris:20230906T110000
DTEND;TZID=Europe/Paris:20230906T120000
DTSTAMP:20260422T113459
CREATED:20230816T000936Z
LAST-MODIFIED:20230906T012318Z
UID:18661-1693998000-1694001600@neurocenter-unige.ch
SUMMARY:Séminaire extraordinaire de Toru Takumi: "Modeling autism and understanding social behavior"
DESCRIPTION:Host: Camilla Bellone
URL:https://neurocenter-unige.ch/agenda/seminaire-extraordinaire-de-toru-takumi-modeling-autism-and-understanding-social-behavior/
LOCATION:room A04.3011
CATEGORIES:Seminars neurobiology
END:VEVENT
END:VCALENDAR