BEGIN:VCALENDAR
VERSION:2.0
PRODID:-//Geneva University Neurocenter - ECPv5.7.0//NONSGML v1.0//EN
CALSCALE:GREGORIAN
METHOD:PUBLISH
X-WR-CALNAME:Geneva University Neurocenter
X-ORIGINAL-URL:https://neurocenter-unige.ch
X-WR-CALDESC:Events for Geneva University Neurocenter
BEGIN:VTIMEZONE
TZID:Europe/Paris
BEGIN:DAYLIGHT
TZOFFSETFROM:+0100
TZOFFSETTO:+0200
TZNAME:CEST
DTSTART:20250330T010000
END:DAYLIGHT
BEGIN:STANDARD
TZOFFSETFROM:+0200
TZOFFSETTO:+0100
TZNAME:CET
DTSTART:20251026T010000
END:STANDARD
END:VTIMEZONE
BEGIN:VEVENT
DTSTART;TZID=Europe/Paris:20250624T110000
DTEND;TZID=Europe/Paris:20250624T120000
DTSTAMP:20260422T173509
CREATED:20250417T134116Z
LAST-MODIFIED:20250623T024116Z
UID:25757-1750762800-1750766400@neurocenter-unige.ch
SUMMARY:Séminaire extraordinaire de Lorella Battelli : "Neuromodulating the Seeing Brain: From Experimental Insights to Clinical Impact"
DESCRIPTION:Host: Ilaria Sani
URL:https://neurocenter-unige.ch/agenda/seminaire-extraordinaire-de-lorella-battelli-tba/
LOCATION:room TBA
CATEGORIES:Seminars brain&cognition,Seminars neurobiology
END:VEVENT
END:VCALENDAR