BEGIN:VCALENDAR
VERSION:2.0
PRODID:-//Geneva University Neurocenter - ECPv5.7.0//NONSGML v1.0//EN
CALSCALE:GREGORIAN
METHOD:PUBLISH
X-WR-CALNAME:Geneva University Neurocenter
X-ORIGINAL-URL:https://neurocenter-unige.ch
X-WR-CALDESC:Events for Geneva University Neurocenter
BEGIN:VTIMEZONE
TZID:Europe/Paris
BEGIN:DAYLIGHT
TZOFFSETFROM:+0100
TZOFFSETTO:+0200
TZNAME:CEST
DTSTART:20230326T010000
END:DAYLIGHT
BEGIN:STANDARD
TZOFFSETFROM:+0200
TZOFFSETTO:+0100
TZNAME:CET
DTSTART:20231029T010000
END:STANDARD
END:VTIMEZONE
BEGIN:VEVENT
DTSTART;TZID=Europe/Paris:20230918T080000
DTEND;TZID=Europe/Paris:20231006T180000
DTSTAMP:20260419T190621
CREATED:20230720T163827Z
LAST-MODIFIED:20231006T143934Z
UID:18440-1695024000-1696615200@neurocenter-unige.ch
SUMMARY:My research through AI eyes
DESCRIPTION:The Swiss Center for Affective Sciences (CISA\, University of Geneva) and the NCCR Evolving Language suggested to their scientists to illustrate their research using an artificial intelligence image generator software.  You will discover in the Uni Dufour main hall an incredible series of images that are not only the result of the software’s own working. It is also and above all the result of the choices and the artistic eye of the images’ producers who played with the various outcomes of the software.  The result is truly fascinating and aesthetically beautiful.
URL:https://neurocenter-unige.ch/agenda/my-research-through-ai-eyes/
LOCATION:Hall Uni Dufour
CATEGORIES:Outreach events
END:VEVENT
END:VCALENDAR