BEGIN:VCALENDAR
VERSION:2.0
PRODID:-//Geneva University Neurocenter - ECPv5.7.0//NONSGML v1.0//EN
CALSCALE:GREGORIAN
METHOD:PUBLISH
X-WR-CALNAME:Geneva University Neurocenter
X-ORIGINAL-URL:https://neurocenter-unige.ch
X-WR-CALDESC:Events for Geneva University Neurocenter
BEGIN:VTIMEZONE
TZID:Europe/Paris
BEGIN:DAYLIGHT
TZOFFSETFROM:+0100
TZOFFSETTO:+0200
TZNAME:CEST
DTSTART:20230326T010000
END:DAYLIGHT
BEGIN:STANDARD
TZOFFSETFROM:+0200
TZOFFSETTO:+0100
TZNAME:CET
DTSTART:20231029T010000
END:STANDARD
END:VTIMEZONE
BEGIN:VEVENT
DTSTART;TZID=Europe/Paris:20230512T090000
DTEND;TZID=Europe/Paris:20230512T120000
DTSTAMP:20260422T210114
CREATED:20230420T135548Z
LAST-MODIFIED:20230511T142716Z
UID:17562-1683882000-1683892800@neurocenter-unige.ch
SUMMARY:«Music and emotional states: The role of episodic memory»
DESCRIPTION:
URL:https://neurocenter-unige.ch/agenda/music-and-emotional-states-the-role-of-episodic-memory/
LOCATION:Salle 4193
CATEGORIES:Thesis defense
END:VEVENT
END:VCALENDAR