BEGIN:VCALENDAR
VERSION:2.0
PRODID:-//Geneva University Neurocenter - ECPv5.7.0//NONSGML v1.0//EN
CALSCALE:GREGORIAN
METHOD:PUBLISH
X-WR-CALNAME:Geneva University Neurocenter
X-ORIGINAL-URL:https://neurocenter-unige.ch
X-WR-CALDESC:Events for Geneva University Neurocenter
BEGIN:VTIMEZONE
TZID:Europe/Paris
BEGIN:DAYLIGHT
TZOFFSETFROM:+0100
TZOFFSETTO:+0200
TZNAME:CEST
DTSTART:20230326T010000
END:DAYLIGHT
BEGIN:STANDARD
TZOFFSETFROM:+0200
TZOFFSETTO:+0100
TZNAME:CET
DTSTART:20231029T010000
END:STANDARD
END:VTIMEZONE
BEGIN:VEVENT
DTSTART;TZID=Europe/Paris:20230425T121500
DTEND;TZID=Europe/Paris:20230425T131500
DTSTAMP:20260423T143715
CREATED:20230325T105336Z
LAST-MODIFIED:20230424T131346Z
UID:17319-1682424900-1682428500@neurocenter-unige.ch
SUMMARY:Brain & Cognition seminar - Talk Julia Langkau (Lecture series)
DESCRIPTION:Can reading fiction teach us empathic skills?   Psychological research suggests that reading fiction can have a positive effect on our ability to empathize in real life. I argue that while we can train certain aspects of empathy by reading fiction\, a crucial skill cannot be trained: the skill of reading the evidence for the other person’s state of mind and getting their mental state right. Because fiction presents us with a different kind of evidence than real life usually does\, the skill acquired through fiction does not carry over to real-life situations. If reading fiction has a positive impact on our empathic skills in real life\, it is not because we practice the relevant skill in the context of fiction. However\, it might be because it motivates us to practice in real life.
URL:https://neurocenter-unige.ch/agenda/brain-cognition-seminar-talk-julia-langkau-lecture-series/
LOCATION:Auditorium\n&\nZoom \nhttps://unige.zoom.us/j/65913842099?pwd=aWxTV3dRc0ZmRmNoWUpXUy94QzhXUT09\nMeeting ID: 659 1384 2099\nPasscode: 748640
CATEGORIES:Seminars psychology
END:VEVENT
END:VCALENDAR