BEGIN:VCALENDAR
VERSION:2.0
PRODID:-//Geneva University Neurocenter - ECPv5.7.0//NONSGML v1.0//EN
CALSCALE:GREGORIAN
METHOD:PUBLISH
X-WR-CALNAME:Geneva University Neurocenter
X-ORIGINAL-URL:https://neurocenter-unige.ch
X-WR-CALDESC:Events for Geneva University Neurocenter
BEGIN:VTIMEZONE
TZID:Europe/Paris
BEGIN:DAYLIGHT
TZOFFSETFROM:+0100
TZOFFSETTO:+0200
TZNAME:CEST
DTSTART:20220327T010000
END:DAYLIGHT
BEGIN:STANDARD
TZOFFSETFROM:+0200
TZOFFSETTO:+0100
TZNAME:CET
DTSTART:20221030T010000
END:STANDARD
END:VTIMEZONE
BEGIN:VEVENT
DTSTART;TZID=Europe/Paris:20220607T121500
DTEND;TZID=Europe/Paris:20220607T131500
DTSTAMP:20260422T100037
CREATED:20220506T000902Z
LAST-MODIFIED:20220607T012339Z
UID:13472-1654604100-1654607700@neurocenter-unige.ch
SUMMARY:"Brain and Cognition Seminar" Development and clinical aspects of the cortical tracking of speech in noise
DESCRIPTION:
URL:https://neurocenter-unige.ch/agenda/brain-and-cognition-seminar-development-and-clinical-aspects-of-the-cortical-tracking-of-speech-in-noise/
LOCATION:Online upon registration to francoise.defferrard@unige.ch
CATEGORIES:Seminars neurobiology
END:VEVENT
END:VCALENDAR