BEGIN:VCALENDAR
VERSION:2.0
PRODID:-//Geneva University Neurocenter - ECPv5.7.0//NONSGML v1.0//EN
CALSCALE:GREGORIAN
METHOD:PUBLISH
X-WR-CALNAME:Geneva University Neurocenter
X-ORIGINAL-URL:https://neurocenter-unige.ch
X-WR-CALDESC:Events for Geneva University Neurocenter
BEGIN:VTIMEZONE
TZID:Europe/Paris
BEGIN:DAYLIGHT
TZOFFSETFROM:+0100
TZOFFSETTO:+0200
TZNAME:CEST
DTSTART:20260329T010000
END:DAYLIGHT
BEGIN:STANDARD
TZOFFSETFROM:+0200
TZOFFSETTO:+0100
TZNAME:CET
DTSTART:20261025T010000
END:STANDARD
END:VTIMEZONE
BEGIN:VEVENT
DTSTART;TZID=Europe/Paris:20260130T123000
DTEND;TZID=Europe/Paris:20260131T133000
DTSTAMP:20260422T041016
CREATED:20251023T125610Z
LAST-MODIFIED:20260130T162628Z
UID:27635-1769776200-1769866200@neurocenter-unige.ch
SUMMARY:5e journée de l’association D.A.CH Médecine Inclusive
DESCRIPTION:L’Association D-A.CH- Inklusive Medizin en collaboration avec l’Unité de psychiatrie du développement mental (UPDM) des HUG dirigée par le Dr Markus Kosel organise son congrès 2026 les 30 et 31 janvier à l’auditoire Marcel Jenny.   Le programme du colloque 2026 est placé sous la thématique « Entre souhaits et réalités de la prise en charge des comportements-problèmes graves : recommandations et perspectives pratiques ».    Comment réagir face à des adultes dont les comportements poussent l’entourage à ses limites ? Lors de ce symposium\, des experts partageront des études de cas et mettront en lumière aussi bien les obstacles rencontrés que les réussites.  Objectif : renforcer les compétences des proches\, du grand public et des professionnels de la santé\, du soin et de l’accompagnement\, et encourager une implication plus active dans la prise en charge de ces situations complexes.
URL:https://neurocenter-unige.ch/agenda/5e-journee-de-lassociation-d-a-ch-medecine-inclusive/
LOCATION:Auditoire Marcel Jenny\, HUG\, Rue Gabrielle-Perret-Gentil 4\, 1205 Genève
CATEGORIES:Conferences
END:VEVENT
END:VCALENDAR